BEGIN:VCALENDAR
VERSION:2.0
PRODID:-//hacksw/handcal//NONSGML v1.0//EN
BEGIN:VEVENT
SUMMARY:PREMIERE BROCANTE EXTERIEURE  du BBC COULOGNE
UID:6d1b0988-bbeb-4eb3-8172-60cada6a1571
DTSTART:20260510T060000Z
DTEND:20260510T160000Z
LOCATION:Localisation PARKING  Salle R DEMARTHE rue A Bart 62137 COULOGNE
CATEGORIES:Manifestation
STATUS:
DESCRIPTION:<p><span style="font-size:16px;"><strong>Le BBC Couogne
 organise sa PREMIERE BROCANTE
 EXTERIEURE</strong></span></p>
 
 <p><span
 style="font-size:16px;"><strong>Le Dimanche 10 MAI 2026 DE 8H a 18H 
 parking de la salle Rene Demarthe</strong></span></p>
 
 <p>Permanences
 des inscriptions : les mardi et jeudi de 18H a 20H  au club house du
 club.</p>
 
 <p>Prix 3€ le metre</p>
 
 <p>Petite restauration et
 buvette sur place</p>
 
 <p> </p>
URL;VALUE=URI:https://www.bbc-coulogne.com/evenements/2026/05/10/premiere-brocante-exterieure-du-bbc-coulogne-2443121
END:VEVENT
END:VCALENDAR
